BEGIN:VCALENDAR
VERSION:2.0
PRODID:-//eventon.com NONSGML v1.0//EN
BEGIN:VEVENT
UID:69ecc662d0fcb
DTSTAMP:20260425T154922
DTSTART:20260123T170000Z
DTEND:20260123T200000Z
LOCATION:Dorpskerk Kerklaan 12
SUMMARY:Pubquiz Actie Kerkbalans @ Dorpskerk
DESCRIPTION: Ja jaaa\,  daar is tie weer! 23 januari is het zo ver…de jaarlijkse PUBQUIZ. Dit jaar een bijzonder\,  georganiseerd door de gekste jeugdgroep van Katwijk 😮‍💨😜🙌🏻. De un-believable groep is al druk bezig met de voorbereidingen 😎😎. Het beloofd een heus spektakel te worden\,  dus deze wil je niet missen!![..]
END:VEVENT
END:VCALENDAR