BEGIN:VCALENDAR
VERSION:2.0
PRODID:-//eventon.com NONSGML v1.0//EN
BEGIN:VEVENT
UID:69e639fd7d87e
DTSTAMP:20260420T163645
DTSTART:20251213T150000Z
DTEND:20251213T213000Z
LOCATION:Tripodia  Hoornesplein 155
SUMMARY:UNI Showtime & Feestconcert @TriPodia
DESCRIPTION: In 2025 hebben we allerlei jubileumactiviteiten georganiseerd en nu is het tijd om het laatste concert van het jaar aan te kondigen.  We sluiten dit fantastische jaar af op zaterdag 13 december a.s. met een groots concert in Zalencentrum TRIPODIA Katwijk. Met de passende titel 𝗦𝗛𝗢𝗪𝗧𝗜𝗠𝗘\,  wordt dit een avond[..]
END:VEVENT
END:VCALENDAR