BEGIN:VCALENDAR
VERSION:2.0
PRODID:-//eventon.com NONSGML v1.0//EN
BEGIN:VEVENT
UID:69e73cbc84894
DTSTAMP:20260421T110044
DTSTART:20250913T190000Z
DTEND:20250913T223000Z
LOCATION:
SUMMARY:Fool Circle @ De Schuit
DESCRIPTION: Zaterdag 13 september in de Schuit! De bands DEEPROOT\,  No King Allowed en Everything Decays! DEEPROOT is een Nederlandse metalcore/deathcoreband met een passie voor agressieve\,  heavy muziek. DEEPROOT levert een dynamische mix van verpletterende breakdowns\,  onheilspellende sferen en onvoorspelbare ritmes. No Kings Allowed is een metalcoreband uit Nederland en België\,  opgericht[..]
END:VEVENT
END:VCALENDAR