BEGIN:VCALENDAR
VERSION:2.0
PRODID:-//eventon.com NONSGML v1.0//EN
BEGIN:VEVENT
UID:69ebab0c68515
DTSTAMP:20260424T194028
DTSTART:20250805T090000Z
DTEND:20250805T160000Z
LOCATION:Andreasplein Andreasplein 1\,  Katwijk
SUMMARY:Gezond en Gelukkig markt @ Andreasplein
DESCRIPTION: Kom voor je portie dagelijks GELUK naar de Gezond en Gelukkig markt op dinsdag 5 augustus 2025 op het Andreasplein in Katwijk aan Zee. Deze actieve markt waar het plezier van afstraalt en geluk wordt gedeeld\,  zit boordenvol interessante en verrassende informatie over gezondheid en geluk. Er zijn masseurs aanwezig[..]
END:VEVENT
END:VCALENDAR