BEGIN:VCALENDAR
VERSION:2.0
PRODID:-//eventon.com NONSGML v1.0//EN
BEGIN:VEVENT
UID:69e750c58994f
DTSTAMP:20260421T122613
DTSTART:20240810T180000Z
DTEND:20240809T220000Z
LOCATION:Strandplein  Zeezijde 19
SUMMARY:Live uit de tap @ Noordzee Zomerfestival
DESCRIPTION: Het populaire meezingfeest is terug. Met topartiesten en de bekende bar op het podium. De hele avond live entertainment. Entree gratis Voor het avondprogramma geldt een toegang vanaf 18 jaar en ouder !! Klik HIER voor het volledige programma
END:VEVENT
END:VCALENDAR