BEGIN:VCALENDAR
VERSION:2.0
PRODID:-//eventon.com NONSGML v1.0//EN
BEGIN:VEVENT
UID:69e5ece51cdd2
DTSTAMP:20260420T110749
DTSTART:20230414T190000Z
DTEND:20230414T215900Z
LOCATION:De Schuit Dwarsstraat
SUMMARY:Schuit Quiz
DESCRIPTION: Elke eerste vrijdag van de maand in De Schuit; de traditionele quizavond. De vaste presentatie ligt in handen van Jip Lugthart! Meedoen aan de quiz kan per team van maximaal 5 personen en kost 10 euro per team. Vrijdag 14 april vanaf 21:00 uur\,  the winner takes it all! Meer[..]
END:VEVENT
END:VCALENDAR